BEGIN:VCALENDAR
VERSION:2.0
PRODID:-//Федерација за планинарство на Северна Македонија - ECPv6.15.20//NONSGML v1.0//EN
CALSCALE:GREGORIAN
METHOD:PUBLISH
X-WR-CALNAME:Федерација за планинарство на Северна Македонија
X-ORIGINAL-URL:https://www.fpsm.org.mk
X-WR-CALDESC:Events for Федерација за планинарство на Северна Македонија
REFRESH-INTERVAL;VALUE=DURATION:PT1H
X-Robots-Tag:noindex
X-PUBLISHED-TTL:PT1H
BEGIN:VTIMEZONE
TZID:Europe/Paris
BEGIN:DAYLIGHT
TZOFFSETFROM:+0100
TZOFFSETTO:+0200
TZNAME:CEST
DTSTART:20240331T010000
END:DAYLIGHT
BEGIN:STANDARD
TZOFFSETFROM:+0200
TZOFFSETTO:+0100
TZNAME:CET
DTSTART:20241027T010000
END:STANDARD
BEGIN:DAYLIGHT
TZOFFSETFROM:+0100
TZOFFSETTO:+0200
TZNAME:CEST
DTSTART:20250330T010000
END:DAYLIGHT
BEGIN:STANDARD
TZOFFSETFROM:+0200
TZOFFSETTO:+0100
TZNAME:CET
DTSTART:20251026T010000
END:STANDARD
BEGIN:DAYLIGHT
TZOFFSETFROM:+0100
TZOFFSETTO:+0200
TZNAME:CEST
DTSTART:20260329T010000
END:DAYLIGHT
BEGIN:STANDARD
TZOFFSETFROM:+0200
TZOFFSETTO:+0100
TZNAME:CET
DTSTART:20261025T010000
END:STANDARD
END:VTIMEZONE
BEGIN:VEVENT
DTSTART;VALUE=DATE:20250525
DTEND;VALUE=DATE:20250526
DTSTAMP:20260422T182227
CREATED:20250407T131923Z
LAST-MODIFIED:20250407T131923Z
UID:6436-1748131200-1748217599@www.fpsm.org.mk
SUMMARY:Традиционално искачување Титов врв
DESCRIPTION:
URL:https://www.fpsm.org.mk/event/%d1%82%d1%80%d0%b0%d0%b4%d0%b8%d1%86%d0%b8%d0%be%d0%bd%d0%b0%d0%bb%d0%bd%d0%be-%d0%b8%d1%81%d0%ba%d0%b0%d1%87%d1%83%d0%b2%d0%b0%d1%9a%d0%b5-%d1%82%d0%b8%d1%82%d0%be%d0%b2-%d0%b2%d1%80%d0%b2/
LOCATION:Popova Shapka\, Ски-центар Попова Шапк\, North Macedonia
CATEGORIES:ПЛАНИНАРЕЊЕ
ORGANIZER;CN="%D0%9F%D0%9A %D0%89%D1%83%D0%B1%D0%BE%D1%82%D0%B5%D0%BD -%D0%A2%D0%B5%D1%82%D0%BE%D0%B2%D0%BE":MAILTO:kontakt@pkljuboten.org.mk
END:VEVENT
BEGIN:VEVENT
DTSTART;VALUE=DATE:20250525
DTEND;VALUE=DATE:20250526
DTSTAMP:20260422T182227
CREATED:20250407T132039Z
LAST-MODIFIED:20250407T132113Z
UID:6439-1748131200-1748217599@www.fpsm.org.mk
SUMMARY:По патеките на Мис - Стон
DESCRIPTION:
URL:https://www.fpsm.org.mk/event/%d0%bf%d0%be-%d0%bf%d0%b0%d1%82%d0%b5%d0%ba%d0%b8%d1%82%d0%b5-%d0%bd%d0%b0-%d0%bc%d0%b8%d1%81-%d1%81%d1%82%d0%be%d0%bd/
CATEGORIES:ПЛАНИНАРЕЊЕ
ORGANIZER;CN="%D0%97%D0%9F%D0%A1%D0%9A %D0%9C%D0%B0%D1%80%D0%B0%D1%82%D0%BE%D0%BD":MAILTO:p.a.e.k.maraton@hotmail.com
END:VEVENT
END:VCALENDAR