BEGIN:VCALENDAR
VERSION:2.0
PRODID:-//Федерација за планинарство на Северна Македонија - ECPv6.15.20//NONSGML v1.0//EN
CALSCALE:GREGORIAN
METHOD:PUBLISH
X-ORIGINAL-URL:https://www.fpsm.org.mk
X-WR-CALDESC:Events for Федерација за планинарство на Северна Македонија
REFRESH-INTERVAL;VALUE=DURATION:PT1H
X-Robots-Tag:noindex
X-PUBLISHED-TTL:PT1H
BEGIN:VTIMEZONE
TZID:Europe/Paris
BEGIN:DAYLIGHT
TZOFFSETFROM:+0100
TZOFFSETTO:+0200
TZNAME:CEST
DTSTART:20240331T010000
END:DAYLIGHT
BEGIN:STANDARD
TZOFFSETFROM:+0200
TZOFFSETTO:+0100
TZNAME:CET
DTSTART:20241027T010000
END:STANDARD
BEGIN:DAYLIGHT
TZOFFSETFROM:+0100
TZOFFSETTO:+0200
TZNAME:CEST
DTSTART:20250330T010000
END:DAYLIGHT
BEGIN:STANDARD
TZOFFSETFROM:+0200
TZOFFSETTO:+0100
TZNAME:CET
DTSTART:20251026T010000
END:STANDARD
BEGIN:DAYLIGHT
TZOFFSETFROM:+0100
TZOFFSETTO:+0200
TZNAME:CEST
DTSTART:20260329T010000
END:DAYLIGHT
BEGIN:STANDARD
TZOFFSETFROM:+0200
TZOFFSETTO:+0100
TZNAME:CET
DTSTART:20261025T010000
END:STANDARD
END:VTIMEZONE
BEGIN:VEVENT
DTSTART;VALUE=DATE:20250601
DTEND;VALUE=DATE:20250602
DTSTAMP:20260420T002950
CREATED:20250528T093025Z
LAST-MODIFIED:20250528T093242Z
UID:6453-1748736000-1748822399@www.fpsm.org.mk
SUMMARY:Мем. Димитар Караристив – Огражден
DESCRIPTION:Контакт за информации и пријавување: \nАндон Спасов Пош. Фах 76 Тел. 071-269-802 entuzijast.strumica@yahoo.com
URL:https://www.fpsm.org.mk/event/%d0%bc%d0%b5%d0%bc-%d0%b4%d0%b8%d0%bc%d0%b8%d1%82%d0%b0%d1%80-%d0%ba%d0%b0%d1%80%d0%b0%d1%80%d0%b8%d1%81%d1%82%d0%b8%d0%b2-%d0%be%d0%b3%d1%80%d0%b0%d0%b6%d0%b4%d0%b5%d0%bd/
CATEGORIES:МЕМОРИЈАЛ
ORGANIZER;CN="%D0%9F%D0%90%D0%9E%D0%9A %D0%95%D0%BD%D1%82%D1%83%D0%B7%D0%B8%D1%98%D0%B0%D1%81%D1%82-%D0%A1%D1%82%D1%80%D1%83%D0%BC%D0%B8%D1%86%D0%B0":MAILTO:entuzijast.strumica@yahoo.com
END:VEVENT
END:VCALENDAR