BEGIN:VCALENDAR
VERSION:2.0
PRODID:-//Федерација за планинарство на Северна Македонија - ECPv6.15.20//NONSGML v1.0//EN
CALSCALE:GREGORIAN
METHOD:PUBLISH
X-WR-CALNAME:Федерација за планинарство на Северна Македонија
X-ORIGINAL-URL:https://www.fpsm.org.mk
X-WR-CALDESC:Events for Федерација за планинарство на Северна Македонија
REFRESH-INTERVAL;VALUE=DURATION:PT1H
X-Robots-Tag:noindex
X-PUBLISHED-TTL:PT1H
BEGIN:VTIMEZONE
TZID:Europe/Paris
BEGIN:DAYLIGHT
TZOFFSETFROM:+0100
TZOFFSETTO:+0200
TZNAME:CEST
DTSTART:20240331T010000
END:DAYLIGHT
BEGIN:STANDARD
TZOFFSETFROM:+0200
TZOFFSETTO:+0100
TZNAME:CET
DTSTART:20241027T010000
END:STANDARD
BEGIN:DAYLIGHT
TZOFFSETFROM:+0100
TZOFFSETTO:+0200
TZNAME:CEST
DTSTART:20250330T010000
END:DAYLIGHT
BEGIN:STANDARD
TZOFFSETFROM:+0200
TZOFFSETTO:+0100
TZNAME:CET
DTSTART:20251026T010000
END:STANDARD
BEGIN:DAYLIGHT
TZOFFSETFROM:+0100
TZOFFSETTO:+0200
TZNAME:CEST
DTSTART:20260329T010000
END:DAYLIGHT
BEGIN:STANDARD
TZOFFSETFROM:+0200
TZOFFSETTO:+0100
TZNAME:CET
DTSTART:20261025T010000
END:STANDARD
END:VTIMEZONE
BEGIN:VEVENT
DTSTART;VALUE=DATE:20250511
DTEND;VALUE=DATE:20250512
DTSTAMP:20260420T032201
CREATED:20250407T125021Z
LAST-MODIFIED:20250407T125242Z
UID:6421-1746921600-1747007999@www.fpsm.org.mk
SUMMARY:Меморијален марш Чичко Спиро Митков
DESCRIPTION:
URL:https://www.fpsm.org.mk/event/%d0%bc%d0%b5%d0%bc%d0%be%d1%80%d0%b8%d1%98%d0%b0%d0%bb%d0%b5%d0%bd-%d0%bc%d0%b0%d1%80%d1%88-%d1%87%d0%b8%d1%87%d0%ba%d0%be-%d1%81%d0%bf%d0%b8%d1%80%d0%be-%d0%bc%d0%b8%d1%82%d0%ba%d0%be%d0%b2/
LOCATION:Скопска Црна Гора\, 4CJ7+XP3\, Kuchevishte\,\, North Macedonia
CATEGORIES:МЕМОРИЈАЛ
ORGANIZER;CN="%D0%9F%D0%A1%D0%9A %D0%A1%D0%BA%D0%BE%D0%BF%D1%81%D0%BA%D0%B0 %D0%A6%D1%80%D0%BD%D0%B0 %D0%93%D0%BE%D1%80%D0%B0 - %D0%A1%D0%BA%D0%BE%D0%BF%D1%98%D0%B5":MAILTO:pk_scg@yahoo.com
END:VEVENT
END:VCALENDAR