BEGIN:VCALENDAR
VERSION:2.0
PRODID:-//Федерација за планинарство на Северна Македонија - ECPv6.15.20//NONSGML v1.0//EN
CALSCALE:GREGORIAN
METHOD:PUBLISH
X-ORIGINAL-URL:https://www.fpsm.org.mk
X-WR-CALDESC:Events for Федерација за планинарство на Северна Македонија
REFRESH-INTERVAL;VALUE=DURATION:PT1H
X-Robots-Tag:noindex
X-PUBLISHED-TTL:PT1H
BEGIN:VTIMEZONE
TZID:Europe/Paris
BEGIN:DAYLIGHT
TZOFFSETFROM:+0100
TZOFFSETTO:+0200
TZNAME:CEST
DTSTART:20240331T010000
END:DAYLIGHT
BEGIN:STANDARD
TZOFFSETFROM:+0200
TZOFFSETTO:+0100
TZNAME:CET
DTSTART:20241027T010000
END:STANDARD
BEGIN:DAYLIGHT
TZOFFSETFROM:+0100
TZOFFSETTO:+0200
TZNAME:CEST
DTSTART:20250330T010000
END:DAYLIGHT
BEGIN:STANDARD
TZOFFSETFROM:+0200
TZOFFSETTO:+0100
TZNAME:CET
DTSTART:20251026T010000
END:STANDARD
BEGIN:DAYLIGHT
TZOFFSETFROM:+0100
TZOFFSETTO:+0200
TZNAME:CEST
DTSTART:20260329T010000
END:DAYLIGHT
BEGIN:STANDARD
TZOFFSETFROM:+0200
TZOFFSETTO:+0100
TZNAME:CET
DTSTART:20261025T010000
END:STANDARD
END:VTIMEZONE
BEGIN:VEVENT
DTSTART;VALUE=DATE:20250824
DTEND;VALUE=DATE:20250825
DTSTAMP:20260419T225321
CREATED:20250812T061616Z
LAST-MODIFIED:20250812T061616Z
UID:6550-1755993600-1756079999@www.fpsm.org.mk
SUMMARY:Меморијал Стамен Каровски
DESCRIPTION:Меморијал Стамен Каровски\,\nс. Пресека Осоговска планина \nПСД Осогово\nКочани Тошо Антов\nТел. 078 / 270-724 psdosogovo_kocani@yahoo.com
URL:https://www.fpsm.org.mk/event/%d0%bc%d0%b5%d0%bc%d0%be%d1%80%d0%b8%d1%98%d0%b0%d0%bb-%d1%81%d1%82%d0%b0%d0%bc%d0%b5%d0%bd-%d0%ba%d0%b0%d1%80%d0%be%d0%b2%d1%81%d0%ba%d0%b8/
CATEGORIES:МЕМОРИЈАЛ,ПЛАНИНАРЕЊЕ
END:VEVENT
END:VCALENDAR